BEGIN:VCALENDAR
VERSION:2.0
PRODID:Crowder Community Real Estate Open for Inspection - SERENE &
 SPACIOUS IN A COVETED SCHOOL POCKET
BEGIN:VTIMEZONE
TZID:Australia/Melbourne
BEGIN:STANDARD
DTSTART:20260425T150000
TZOFFSETTO:+1000
TZNAME:GMT+10
END:STANDARD
END:VTIMEZONE
BEGIN:VEVENT
UID:69ea3c6386442
DTSTART;TZID=Australia/Melbourne:20260425T150000
SEQUENCE:0
TRANSP:OPAQUE
DTEND;TZID=Australia/Melbourne:20260425T153000
LOCATION:41 Summit Road FRANKSTON VIC
SUMMARY:Crowder Community Real Estate Open for Inspection - 41 Summit Road
 FRANKSTON VIC
CLASS:PUBLIC
DESCRIPTION:Open for Inspection: 41 Summit Road FRANKSTON VIC Saturday
 25th Apr 15:00pm - 15:30pm Click the link for full listing information:
 https://www.crowdercre.com.au/8659703
DTSTAMP:20260423T153603
END:VEVENT
END:VCALENDAR